BEGIN:VCALENDAR
VERSION:2.0
PRODID:JMS Hockey
X-PUBLISHED-TTL:P1W
BEGIN:VEVENT
UID:69e7af2545c11
DTSTART:20180228T034500Z
SEQUENCE:0
TRANSP:OPAQUE
DTEND:20180228T051500Z
URL:http://jmshockey.com/games/10869
LOCATION:St Louis Park Rec Center
SUMMARY:Lower Level Game at St Louis Park Rec Center
CLASS:PUBLIC
DTSTAMP:20260421T120853Z
END:VEVENT
END:VCALENDAR