BEGIN:VCALENDAR
VERSION:2.0
PRODID:JMS Hockey
X-PUBLISHED-TTL:P1W
BEGIN:VEVENT
UID:69e7b1900e21f
DTSTART:20180210T034500Z
SEQUENCE:0
TRANSP:OPAQUE
DTEND:20180210T051500Z
URL:http://jmshockey.com/games/10862
LOCATION:St Louis Park Rec Center
SUMMARY:Upper Level Game at St Louis Park Rec Center
CLASS:PUBLIC
DTSTAMP:20260421T121912Z
END:VEVENT
END:VCALENDAR