BEGIN:VCALENDAR
VERSION:2.0
PRODID:JMS Hockey
X-PUBLISHED-TTL:P1W
BEGIN:VEVENT
UID:69e7a39a18bca
DTSTART:20180227T034000Z
SEQUENCE:0
TRANSP:OPAQUE
DTEND:20180227T051000Z
URL:http://jmshockey.com/games/10860
LOCATION:St Thomas Ice Arena
SUMMARY:Intermediate Game at St Thomas Ice Arena
CLASS:PUBLIC
DTSTAMP:20260421T111938Z
END:VEVENT
END:VCALENDAR