BEGIN:VCALENDAR
VERSION:2.0
PRODID:JMS Hockey
X-PUBLISHED-TTL:P1W
BEGIN:VEVENT
UID:69e7a3db277d7
DTSTART:20180213T034000Z
SEQUENCE:0
TRANSP:OPAQUE
DTEND:20180213T051000Z
URL:http://jmshockey.com/games/10858
LOCATION:St Thomas Ice Arena
SUMMARY:Intermediate Game at St Thomas Ice Arena
CLASS:PUBLIC
DTSTAMP:20260421T112043Z
END:VEVENT
END:VCALENDAR