BEGIN:VCALENDAR
VERSION:2.0
PRODID:JMS Hockey
X-PUBLISHED-TTL:P1W
BEGIN:VEVENT
UID:69e7fd92bb176
DTSTART:20180225T034000Z
SEQUENCE:0
TRANSP:OPAQUE
DTEND:20180225T051000Z
URL:http://jmshockey.com/games/10856
LOCATION:St Thomas Ice Arena
SUMMARY:All level Game at St Thomas Ice Arena
CLASS:PUBLIC
DTSTAMP:20260421T174330Z
END:VEVENT
END:VCALENDAR