BEGIN:VCALENDAR
VERSION:2.0
PRODID:JMS Hockey
X-PUBLISHED-TTL:P1W
BEGIN:VEVENT
UID:69e7adf0d601e
DTSTART:20180224T031000Z
SEQUENCE:0
TRANSP:OPAQUE
DTEND:20180224T044000Z
URL:http://jmshockey.com/games/10847
LOCATION:Schwan Superrink
SUMMARY:All level Game at Schwan Superrink
CLASS:PUBLIC
DTSTAMP:20260421T120344Z
END:VEVENT
END:VCALENDAR