BEGIN:VCALENDAR
VERSION:2.0
PRODID:JMS Hockey
X-PUBLISHED-TTL:P1W
BEGIN:VEVENT
UID:69e843565d83e
DTSTART:20091215T030000Z
SEQUENCE:0
TRANSP:OPAQUE
DTEND:20091215T043000Z
URL:http://jmshockey.com/games/1083
LOCATION:New Hope Ice Arena
SUMMARY:Level 5 Game at New Hope Ice Arena
CLASS:PUBLIC
DTSTAMP:20260421T224110Z
END:VEVENT
END:VCALENDAR