BEGIN:VCALENDAR
VERSION:2.0
PRODID:JMS Hockey
X-PUBLISHED-TTL:P1W
BEGIN:VEVENT
UID:69e7af24b40fa
DTSTART:20180331T010000Z
SEQUENCE:0
TRANSP:OPAQUE
DTEND:20180331T023000Z
URL:http://jmshockey.com/games/10818
LOCATION:Eden Prairie Comm Ctr
SUMMARY:Intermediate Game at Eden Prairie Comm Ctr
CLASS:PUBLIC
DTSTAMP:20260421T120852Z
END:VEVENT
END:VCALENDAR