BEGIN:VCALENDAR
VERSION:2.0
PRODID:JMS Hockey
X-PUBLISHED-TTL:P1W
BEGIN:VEVENT
UID:69e795eee8d72
DTSTART:20180317T010000Z
SEQUENCE:0
TRANSP:OPAQUE
DTEND:20180317T023000Z
URL:http://jmshockey.com/games/10816
LOCATION:Eden Prairie Comm Ctr
SUMMARY:Intermediate Game at Eden Prairie Comm Ctr
CLASS:PUBLIC
DTSTAMP:20260421T102118Z
END:VEVENT
END:VCALENDAR