BEGIN:VCALENDAR
VERSION:2.0
PRODID:JMS Hockey
X-PUBLISHED-TTL:P1W
BEGIN:VEVENT
UID:69e7a79e7ba91
DTSTART:20180224T023000Z
SEQUENCE:0
TRANSP:OPAQUE
DTEND:20180224T040000Z
URL:http://jmshockey.com/games/10813
LOCATION:Eden Prairie Comm Ctr
SUMMARY:Intermediate Game at Eden Prairie Comm Ctr
CLASS:PUBLIC
DTSTAMP:20260421T113646Z
END:VEVENT
END:VCALENDAR