BEGIN:VCALENDAR
VERSION:2.0
PRODID:JMS Hockey
X-PUBLISHED-TTL:P1W
BEGIN:VEVENT
UID:69e78bd0ecc7f
DTSTART:20180217T030000Z
SEQUENCE:0
TRANSP:OPAQUE
DTEND:20180217T043000Z
URL:http://jmshockey.com/games/10812
LOCATION:Eden Prairie Comm Ctr
SUMMARY:Intermediate Game at Eden Prairie Comm Ctr
CLASS:PUBLIC
DTSTAMP:20260421T093808Z
END:VEVENT
END:VCALENDAR