BEGIN:VCALENDAR
VERSION:2.0
PRODID:JMS Hockey
X-PUBLISHED-TTL:P1W
BEGIN:VEVENT
UID:69e7c3c3e9b94
DTSTART:20180223T033000Z
SEQUENCE:0
TRANSP:OPAQUE
DTEND:20180223T050000Z
URL:http://jmshockey.com/games/10796
LOCATION:Apple Valley Sports Arena
SUMMARY:Intermediate Game at Apple Valley Sports Arena
CLASS:PUBLIC
DTSTAMP:20260421T133651Z
END:VEVENT
END:VCALENDAR