BEGIN:VCALENDAR
VERSION:2.0
PRODID:JMS Hockey
X-PUBLISHED-TTL:P1W
BEGIN:VEVENT
UID:69e7d5411d8e4
DTSTART:20180125T032000Z
SEQUENCE:0
TRANSP:OPAQUE
DTEND:20180125T045000Z
URL:http://jmshockey.com/games/10772
LOCATION:Doug Woog Arena (Wakota)
SUMMARY:Intermediate Game at Doug Woog Arena (Wakota)
CLASS:PUBLIC
DTSTAMP:20260421T145129Z
END:VEVENT
END:VCALENDAR