BEGIN:VCALENDAR
VERSION:2.0
PRODID:JMS Hockey
X-PUBLISHED-TTL:P1W
BEGIN:VEVENT
UID:69e7af5b8ac34
DTSTART:20180111T034000Z
SEQUENCE:0
TRANSP:OPAQUE
DTEND:20180111T051000Z
URL:http://jmshockey.com/games/10769
LOCATION:Doug Woog Arena (Wakota)
SUMMARY:Intermediate Game at Doug Woog Arena (Wakota)
CLASS:PUBLIC
DTSTAMP:20260421T120947Z
END:VEVENT
END:VCALENDAR