BEGIN:VCALENDAR
VERSION:2.0
PRODID:JMS Hockey
X-PUBLISHED-TTL:P1W
BEGIN:VEVENT
UID:69e7c31a5d3f5
DTSTART:20091212T031500Z
SEQUENCE:0
TRANSP:OPAQUE
DTEND:20091212T044500Z
URL:http://jmshockey.com/games/1076
LOCATION:Richfield Ice Arena
SUMMARY:Level 2 Game at Richfield Ice Arena
CLASS:PUBLIC
DTSTAMP:20260421T133402Z
END:VEVENT
END:VCALENDAR