BEGIN:VCALENDAR
VERSION:2.0
PRODID:JMS Hockey
X-PUBLISHED-TTL:P1W
BEGIN:VEVENT
UID:69e77afc52496
DTSTART:20180131T033000Z
SEQUENCE:0
TRANSP:OPAQUE
DTEND:20180131T050000Z
URL:http://jmshockey.com/games/10749
LOCATION:St Louis Park Rec Center
SUMMARY:Lower Level Game at St Louis Park Rec Center
CLASS:PUBLIC
DTSTAMP:20260421T082620Z
END:VEVENT
END:VCALENDAR