BEGIN:VCALENDAR
VERSION:2.0
PRODID:JMS Hockey
X-PUBLISHED-TTL:P1W
BEGIN:VEVENT
UID:69e7c3caea78e
DTSTART:20180127T041500Z
SEQUENCE:0
TRANSP:OPAQUE
DTEND:20180127T054500Z
URL:http://jmshockey.com/games/10743
LOCATION:Roseville Skating Center
SUMMARY:Lower Level Game at Roseville Skating Center
CLASS:PUBLIC
DTSTAMP:20260421T133658Z
END:VEVENT
END:VCALENDAR