BEGIN:VCALENDAR
VERSION:2.0
PRODID:JMS Hockey
X-PUBLISHED-TTL:P1W
BEGIN:VEVENT
UID:69e783e0f0574
DTSTART:20180104T023000Z
SEQUENCE:0
TRANSP:OPAQUE
DTEND:20180104T040000Z
URL:http://jmshockey.com/games/10731
LOCATION:Polar Arena
SUMMARY:Lower Level Game at Polar Arena
CLASS:PUBLIC
DTSTAMP:20260421T090416Z
END:VEVENT
END:VCALENDAR