BEGIN:VCALENDAR
VERSION:2.0
PRODID:JMS Hockey
X-PUBLISHED-TTL:P1W
BEGIN:VEVENT
UID:69e79a57098b6
DTSTART:20180103T040000Z
SEQUENCE:0
TRANSP:OPAQUE
DTEND:20180103T053000Z
URL:http://jmshockey.com/games/10721
LOCATION:Maple Grove
SUMMARY:Intermediate Game at Maple Grove
CLASS:PUBLIC
DTSTAMP:20260421T104007Z
END:VEVENT
END:VCALENDAR