BEGIN:VCALENDAR
VERSION:2.0
PRODID:JMS Hockey
X-PUBLISHED-TTL:P1W
BEGIN:VEVENT
UID:69e7c3557b774
DTSTART:20091210T034500Z
SEQUENCE:0
TRANSP:OPAQUE
DTEND:20091210T051500Z
URL:http://jmshockey.com/games/1071
LOCATION:New Hope Ice Arena
SUMMARY:Level 3 Game at New Hope Ice Arena
CLASS:PUBLIC
DTSTAMP:20260421T133501Z
END:VEVENT
END:VCALENDAR