BEGIN:VCALENDAR
VERSION:2.0
PRODID:JMS Hockey
X-PUBLISHED-TTL:P1W
BEGIN:VEVENT
UID:69e7a595cb467
DTSTART:20171204T033000Z
SEQUENCE:0
TRANSP:OPAQUE
DTEND:20171204T043000Z
URL:http://jmshockey.com/games/10691
LOCATION:Highland Arena
SUMMARY:Novice Game at Highland Arena
CLASS:PUBLIC
DTSTAMP:20260421T112805Z
END:VEVENT
END:VCALENDAR