BEGIN:VCALENDAR
VERSION:2.0
PRODID:JMS Hockey
X-PUBLISHED-TTL:P1W
BEGIN:VEVENT
UID:69e7a776a03cd
DTSTART:20171216T030000Z
SEQUENCE:0
TRANSP:OPAQUE
DTEND:20171216T043000Z
URL:http://jmshockey.com/games/10683
LOCATION:SLP Recreation Outdoor Center
SUMMARY:Upper Level Game at SLP Recreation Outdoor Center
CLASS:PUBLIC
DTSTAMP:20260421T113606Z
END:VEVENT
END:VCALENDAR