BEGIN:VCALENDAR
VERSION:2.0
PRODID:JMS Hockey
X-PUBLISHED-TTL:P1W
BEGIN:VEVENT
UID:69e77ae0684a4
DTSTART:20171125T020000Z
SEQUENCE:0
TRANSP:OPAQUE
DTEND:20171125T033000Z
URL:http://jmshockey.com/games/10682
LOCATION:Augsburg
SUMMARY:Upper Level Game at Augsburg
CLASS:PUBLIC
DTSTAMP:20260421T082552Z
END:VEVENT
END:VCALENDAR