BEGIN:VCALENDAR
VERSION:2.0
PRODID:JMS Hockey
X-PUBLISHED-TTL:P1W
BEGIN:VEVENT
UID:69e787c4a0b7c
DTSTART:20171110T040000Z
SEQUENCE:0
TRANSP:OPAQUE
DTEND:20171110T053000Z
URL:http://jmshockey.com/games/10671
LOCATION:Woodbury Bielenberg
SUMMARY:Lower Level Game at Woodbury Bielenberg
CLASS:PUBLIC
DTSTAMP:20260421T092052Z
END:VEVENT
END:VCALENDAR