BEGIN:VCALENDAR
VERSION:2.0
PRODID:JMS Hockey
X-PUBLISHED-TTL:P1W
BEGIN:VEVENT
UID:69e7e9bd37da5
DTSTART:20091209T034500Z
SEQUENCE:0
TRANSP:OPAQUE
DTEND:20091209T051500Z
URL:http://jmshockey.com/games/1067
LOCATION:Braemar Arena
SUMMARY:Level 3 Game at Braemar Arena
CLASS:PUBLIC
DTSTAMP:20260421T161853Z
END:VEVENT
END:VCALENDAR