BEGIN:VCALENDAR
VERSION:2.0
PRODID:JMS Hockey
X-PUBLISHED-TTL:P1W
BEGIN:VEVENT
UID:69e79f703ec66
DTSTART:20171202T023000Z
SEQUENCE:0
TRANSP:OPAQUE
DTEND:20171202T040000Z
URL:http://jmshockey.com/games/10663
LOCATION:Eden Prairie Comm Ctr
SUMMARY:Intermediate Game at Eden Prairie Comm Ctr
CLASS:PUBLIC
DTSTAMP:20260421T110152Z
END:VEVENT
END:VCALENDAR