BEGIN:VCALENDAR
VERSION:2.0
PRODID:JMS Hockey
X-PUBLISHED-TTL:P1W
BEGIN:VEVENT
UID:69e7af810a05b
DTSTART:20171207T032000Z
SEQUENCE:0
TRANSP:OPAQUE
DTEND:20171207T045000Z
URL:http://jmshockey.com/games/10658
LOCATION:Doug Woog Arena (Wakota)
SUMMARY:Level 3 Game at Doug Woog Arena (Wakota)
CLASS:PUBLIC
DTSTAMP:20260421T121025Z
END:VEVENT
END:VCALENDAR