BEGIN:VCALENDAR
VERSION:2.0
PRODID:JMS Hockey
X-PUBLISHED-TTL:P1W
BEGIN:VEVENT
UID:69e7adf15193f
DTSTART:20171228T023000Z
SEQUENCE:0
TRANSP:OPAQUE
DTEND:20171228T040000Z
URL:http://jmshockey.com/games/10634
LOCATION:Polar Arena
SUMMARY:Lower Level Game at Polar Arena
CLASS:PUBLIC
DTSTAMP:20260421T120345Z
END:VEVENT
END:VCALENDAR