BEGIN:VCALENDAR
VERSION:2.0
PRODID:JMS Hockey
X-PUBLISHED-TTL:P1W
BEGIN:VEVENT
UID:69e795f326024
DTSTART:20171219T034000Z
SEQUENCE:0
TRANSP:OPAQUE
DTEND:20171219T051000Z
URL:http://jmshockey.com/games/10624
LOCATION:St Thomas Ice Arena
SUMMARY:Intermediate Game at St Thomas Ice Arena
CLASS:PUBLIC
DTSTAMP:20260421T102123Z
END:VEVENT
END:VCALENDAR