BEGIN:VCALENDAR
VERSION:2.0
PRODID:JMS Hockey
X-PUBLISHED-TTL:P1W
BEGIN:VEVENT
UID:69e7a73f54e42
DTSTART:20171114T034000Z
SEQUENCE:0
TRANSP:OPAQUE
DTEND:20171114T051000Z
URL:http://jmshockey.com/games/10620
LOCATION:St Thomas Ice Arena
SUMMARY:Intermediate Game at St Thomas Ice Arena
CLASS:PUBLIC
DTSTAMP:20260421T113511Z
END:VEVENT
END:VCALENDAR