BEGIN:VCALENDAR
VERSION:2.0
PRODID:JMS Hockey
X-PUBLISHED-TTL:P1W
BEGIN:VEVENT
UID:69e787afe544e
DTSTART:20180121T034000Z
SEQUENCE:0
TRANSP:OPAQUE
DTEND:20180121T051000Z
URL:http://jmshockey.com/games/10614
LOCATION:St Thomas Ice Arena
SUMMARY:All level Game at St Thomas Ice Arena
CLASS:PUBLIC
DTSTAMP:20260421T092031Z
END:VEVENT
END:VCALENDAR