BEGIN:VCALENDAR
VERSION:2.0
PRODID:JMS Hockey
X-PUBLISHED-TTL:P1W
BEGIN:VEVENT
UID:69e7f81d43fa9
DTSTART:20081018T001500Z
SEQUENCE:0
TRANSP:OPAQUE
DTEND:20081018T014500Z
URL:http://jmshockey.com/games/106
LOCATION:Doug Woog Arena (Wakota)
SUMMARY:Level 2 Game at Doug Woog Arena (Wakota)
CLASS:PUBLIC
DTSTAMP:20260421T172013Z
END:VEVENT
END:VCALENDAR