BEGIN:VCALENDAR
VERSION:2.0
PRODID:JMS Hockey
X-PUBLISHED-TTL:P1W
BEGIN:VEVENT
UID:69e79da9e776d
DTSTART:20171109T033000Z
SEQUENCE:0
TRANSP:OPAQUE
DTEND:20171109T050000Z
URL:http://jmshockey.com/games/10595
LOCATION:SLP Recreation Outdoor Center
SUMMARY:All level Game at SLP Recreation Outdoor Center
CLASS:PUBLIC
DTSTAMP:20260421T105417Z
END:VEVENT
END:VCALENDAR