BEGIN:VCALENDAR
VERSION:2.0
PRODID:JMS Hockey
X-PUBLISHED-TTL:P1W
BEGIN:VEVENT
UID:69e7b14222afe
DTSTART:20171227T033000Z
SEQUENCE:0
TRANSP:OPAQUE
DTEND:20171227T050000Z
URL:http://jmshockey.com/games/10590
LOCATION:St Louis Park Rec Center
SUMMARY:Lower Level Game at St Louis Park Rec Center
CLASS:PUBLIC
DTSTAMP:20260421T121754Z
END:VEVENT
END:VCALENDAR