BEGIN:VCALENDAR
VERSION:2.0
PRODID:JMS Hockey
X-PUBLISHED-TTL:P1W
BEGIN:VEVENT
UID:69e795a53b1da
DTSTART:20171202T034500Z
SEQUENCE:0
TRANSP:OPAQUE
DTEND:20171202T050000Z
URL:http://jmshockey.com/games/10582
LOCATION:SLP Recreation Outdoor Center
SUMMARY:Novice Game at SLP Recreation Outdoor Center
CLASS:PUBLIC
DTSTAMP:20260421T102005Z
END:VEVENT
END:VCALENDAR