BEGIN:VCALENDAR
VERSION:2.0
PRODID:JMS Hockey
X-PUBLISHED-TTL:P1W
BEGIN:VEVENT
UID:69e77ab77b568
DTSTART:20171204T023000Z
SEQUENCE:0
TRANSP:OPAQUE
DTEND:20171204T033000Z
URL:http://jmshockey.com/games/10578
LOCATION:Roseville Skating Center
SUMMARY:All level Game at Roseville Skating Center
CLASS:PUBLIC
DTSTAMP:20260421T082511Z
END:VEVENT
END:VCALENDAR