BEGIN:VCALENDAR
VERSION:2.0
PRODID:JMS Hockey
X-PUBLISHED-TTL:P1W
BEGIN:VEVENT
UID:69e7b5a0d1013
DTSTART:20171220T031500Z
SEQUENCE:0
TRANSP:OPAQUE
DTEND:20171220T044500Z
URL:http://jmshockey.com/games/10563
LOCATION:Maple Grove
SUMMARY:Intermediate Game at Maple Grove
CLASS:PUBLIC
DTSTAMP:20260421T123632Z
END:VEVENT
END:VCALENDAR