BEGIN:VCALENDAR
VERSION:2.0
PRODID:JMS Hockey
X-PUBLISHED-TTL:P1W
BEGIN:VEVENT
UID:69e7fd877d356
DTSTART:20091205T034500Z
SEQUENCE:0
TRANSP:OPAQUE
DTEND:20091205T051500Z
URL:http://jmshockey.com/games/1056
LOCATION:Richfield Ice Arena
SUMMARY:Level 1 Game at Richfield Ice Arena
CLASS:PUBLIC
DTSTAMP:20260421T174319Z
END:VEVENT
END:VCALENDAR