BEGIN:VCALENDAR
VERSION:2.0
PRODID:JMS Hockey
X-PUBLISHED-TTL:P1W
BEGIN:VEVENT
UID:69e787f73015d
DTSTART:20171117T040000Z
SEQUENCE:0
TRANSP:OPAQUE
DTEND:20171117T050000Z
URL:http://jmshockey.com/games/10554
LOCATION:Maple Grove
SUMMARY:Lower Level Game at Maple Grove
CLASS:PUBLIC
DTSTAMP:20260421T092143Z
END:VEVENT
END:VCALENDAR