BEGIN:VCALENDAR
VERSION:2.0
PRODID:JMS Hockey
X-PUBLISHED-TTL:P1W
BEGIN:VEVENT
UID:69e7af010bca3
DTSTART:20171227T033000Z
SEQUENCE:0
TRANSP:OPAQUE
DTEND:20171227T050000Z
URL:http://jmshockey.com/games/10540
LOCATION:Apple Valley Sports Arena
SUMMARY:Lower Level Game at Apple Valley Sports Arena
CLASS:PUBLIC
DTSTAMP:20260421T120817Z
END:VEVENT
END:VCALENDAR