BEGIN:VCALENDAR
VERSION:2.0
PRODID:JMS Hockey
X-PUBLISHED-TTL:P1W
BEGIN:VEVENT
UID:69e7dd566d851
DTSTART:20091203T040000Z
SEQUENCE:0
TRANSP:OPAQUE
DTEND:20091203T053000Z
URL:http://jmshockey.com/games/1053
LOCATION:Yackel Westside
SUMMARY:Level 2 Game at Yackel Westside
CLASS:PUBLIC
DTSTAMP:20260421T152558Z
END:VEVENT
END:VCALENDAR