BEGIN:VCALENDAR
VERSION:2.0
PRODID:JMS Hockey
X-PUBLISHED-TTL:P1W
BEGIN:VEVENT
UID:69e7879c50e92
DTSTART:20171117T033000Z
SEQUENCE:0
TRANSP:OPAQUE
DTEND:20171117T050000Z
URL:http://jmshockey.com/games/10527
LOCATION:Apple Valley Sports Arena
SUMMARY:Intermediate Game at Apple Valley Sports Arena
CLASS:PUBLIC
DTSTAMP:20260421T092012Z
END:VEVENT
END:VCALENDAR