BEGIN:VCALENDAR
VERSION:2.0
PRODID:JMS Hockey
X-PUBLISHED-TTL:P1W
BEGIN:VEVENT
UID:69e787a2114a7
DTSTART:20171102T023000Z
SEQUENCE:0
TRANSP:OPAQUE
DTEND:20171102T040000Z
URL:http://jmshockey.com/games/10523
LOCATION:SLP Recreation Outdoor Center
SUMMARY:All level Game at SLP Recreation Outdoor Center
CLASS:PUBLIC
DTSTAMP:20260421T092018Z
END:VEVENT
END:VCALENDAR