BEGIN:VCALENDAR
VERSION:2.0
PRODID:JMS Hockey
X-PUBLISHED-TTL:P1W
BEGIN:VEVENT
UID:69e7878848a92
DTSTART:20171024T024000Z
SEQUENCE:0
TRANSP:OPAQUE
DTEND:20171024T041000Z
URL:http://jmshockey.com/games/10520
LOCATION:St Thomas Ice Arena
SUMMARY:Intermediate Game at St Thomas Ice Arena
CLASS:PUBLIC
DTSTAMP:20260421T091952Z
END:VEVENT
END:VCALENDAR