BEGIN:VCALENDAR
VERSION:2.0
PRODID:JMS Hockey
X-PUBLISHED-TTL:P1W
BEGIN:VEVENT
UID:69e77afc05cbb
DTSTART:20171010T024000Z
SEQUENCE:0
TRANSP:OPAQUE
DTEND:20171010T041000Z
URL:http://jmshockey.com/games/10506
LOCATION:St Thomas Ice Arena
SUMMARY:Novice Game at St Thomas Ice Arena
CLASS:PUBLIC
DTSTAMP:20260421T082620Z
END:VEVENT
END:VCALENDAR