BEGIN:VCALENDAR
VERSION:2.0
PRODID:JMS Hockey
X-PUBLISHED-TTL:P1W
BEGIN:VEVENT
UID:69e7a39a9ecc6
DTSTART:20171023T013000Z
SEQUENCE:0
TRANSP:OPAQUE
DTEND:20171023T023000Z
URL:http://jmshockey.com/games/10496
LOCATION:Roseville Skating Center
SUMMARY:All level Game at Roseville Skating Center
CLASS:PUBLIC
DTSTAMP:20260421T111938Z
END:VEVENT
END:VCALENDAR