BEGIN:VCALENDAR
VERSION:2.0
PRODID:JMS Hockey
X-PUBLISHED-TTL:P1W
BEGIN:VEVENT
UID:69e760f57fcea
DTSTART:20171013T024000Z
SEQUENCE:0
TRANSP:OPAQUE
DTEND:20171013T041000Z
URL:http://jmshockey.com/games/10493
LOCATION:Woodbury Bielenberg
SUMMARY:Lower Level Game at Woodbury Bielenberg
CLASS:PUBLIC
DTSTAMP:20260421T063517Z
END:VEVENT
END:VCALENDAR