BEGIN:VCALENDAR
VERSION:2.0
PRODID:JMS Hockey
X-PUBLISHED-TTL:P1W
BEGIN:VEVENT
UID:69e78a1395ff9
DTSTART:20171027T020000Z
SEQUENCE:0
TRANSP:OPAQUE
DTEND:20171027T033000Z
URL:http://jmshockey.com/games/10485
LOCATION:Maple Grove
SUMMARY:Lower Level Game at Maple Grove
CLASS:PUBLIC
DTSTAMP:20260421T093043Z
END:VEVENT
END:VCALENDAR