BEGIN:VCALENDAR
VERSION:2.0
PRODID:JMS Hockey
X-PUBLISHED-TTL:P1W
BEGIN:VEVENT
UID:69e787f52b0de
DTSTART:20171006T023000Z
SEQUENCE:0
TRANSP:OPAQUE
DTEND:20171006T040000Z
URL:http://jmshockey.com/games/10482
LOCATION:Maple Grove
SUMMARY:Lower Level Game at Maple Grove
CLASS:PUBLIC
DTSTAMP:20260421T092141Z
END:VEVENT
END:VCALENDAR