BEGIN:VCALENDAR
VERSION:2.0
PRODID:JMS Hockey
X-PUBLISHED-TTL:P1W
BEGIN:VEVENT
UID:69e7ade7d0b17
DTSTART:20171013T030000Z
SEQUENCE:0
TRANSP:OPAQUE
DTEND:20171013T043000Z
URL:http://jmshockey.com/games/10473
LOCATION:Apple Valley Hayes Park Arena
SUMMARY:Intermediate Game at Apple Valley Hayes Park Arena
CLASS:PUBLIC
DTSTAMP:20260421T120335Z
END:VEVENT
END:VCALENDAR